BEGIN:VCALENDAR
VERSION:2.0
PRODID:-//ExhibitionMatches.com//NONSGML v1.0//EN
BEGIN:VEVENT
UID=08E847AC-BBCF-7CE0-CC006717D3CD82D0
DTSTAMP=20260422T022834Z
DTSTART;VALUE=DATE:20260613
DTEND;VALUE=DATE:20260614
SUMMARY:16U and Junior Olympic Styles Nevada Championships
LOCATION:Clark High School, 4291 pennwood, las vegas, NV, 89012
DESCRIPTION:View full event details: https://wrestlingtournaments.org/view.cfm?ID=106960
Contact: Robert Cate rob@nevadawrestling.org
URL;VALUE=URI:https://wrestlingtournaments.org/view.cfm?ID=106960
END:VEVENT
END:VCALENDAR